BEGIN:VCALENDAR
VERSION:2.0
PRODID:icalendar-ruby
CALSCALE:GREGORIAN
METHOD:PUBLISH
BEGIN:VEVENT
DTSTAMP:20260421T120543Z
UID:37-597076@harmonygroveumc.com
DTSTART:20260502T163000Z
DTEND:20260502T180000Z
CLASS:PUBLIC
CREATED:20260415T083827
DESCRIPTION:Come participate with us on World Labyrinth Day 2026.  Around 
 the world people will walk labyrinths at 1 pm.  \nHarmony Grove UMC has 
 an outdoor labyrinth available to the community. There will also be an ind
 oor labyrinth available in Pollard Hall for this special event.\nJoin thou
 sands of people around the world in this moving meditation for world peace
  and celebration of the labyrinth experience! \nLearn More about this yea
 rly event.
LAST-MODIFIED:20260415T083827
LOCATION:Labyrinth
SUMMARY:World Labyrinth Day 2026 @ Harmony Grove
URL;VALUE=URI:https://harmonygroveumc.com/events/world-labyrinth-day-2026-h
 armony-grove/2026-05-02
ATTACH;FILENAME=world-labyrinth-day-celebration-2026.png;FMTTYPE=image/png:
 https://dq5pwpg1q8ru0.cloudfront.net/2026/04/15/12/37/56/7fa7034f-40cd-4ce
 6-9e5f-200872773cef/world-labyrinth-day-celebration-2026.png
END:VEVENT
END:VCALENDAR
